BEGIN:VCALENDAR
METHOD:PUBLISH
PRODID:Data::ICal 0.13
VERSION:2.0
BEGIN:VEVENT
DESCRIPTION:14th Annual Radio-One Family Day at the Zoo\nMonday, July 25th \n10 AM – 3 PM \nJoin us for the 14th Annual Family Day at the Zoo presented by Radio-One Cleveland! \nMonday, July 25th. \nThe Sam Sylk Show with Bijou Star will be broadcasting for WZAK live from 10 am –3 pm! \nMicah Dixon will be broadcasting for Z1079 live from 10 am –3 pm! \nCome to the dance party under the Palava Hut and register to win VIP prizes including concerts and exclusive Radio-One events! \nTake part in our family-friendly activities, music, food, and fun! \nOur 15th Annual Family Day at the Zoo is presented by “Radio One Cleveland”, Monday, July 25th. Brought to you in part by Accel Schools, the Cleveland Metro Park Zoo, 93.1WZAK, Z1079, Praise Cleveland 94.5, and 1490 News Talk! \n&nbsp;\nBe Sure to Visit our Sponsor Booths\n&nbsp;\n\n[caption id=&quot;attachment_4367083&quot; align=&quot;aligncenter&quot; width=&quot;1024&quot;] Source: N/A / n/a[/caption]\n\n[googlemaps https://www.google.com/maps/embed?pb=!1m14!1m8!1m3!1d11962.76016303937!2d-81.7126246!3d41.4459468!3m2!1i1024!2i768!4f13.1!3m3!1m2!1s0x0%3A0xa3032f5bfedceb23!2sMetroparks%20Zoo!5e0!3m2!1sen!2sus!4v1657203610083!5m2!1sen!2sus&amp;w=600&amp;h=450]
DTSTAMP:20260419T120632Z
DTSTART;TZID=America/New_York:20220725T100000
DTEND;TZID=America/New_York:20220725T150000
LOCATION:
SUMMARY:14th Annual Radio-One Family Day at the Zoo
UID:3813158-1658743200-1658761200
END:VEVENT
END:VCALENDAR
