BEGIN:VCALENDAR
METHOD:PUBLISH
PRODID:Data::ICal 0.13
VERSION:2.0
BEGIN:VEVENT
DESCRIPTION:Join Breakthrough Schools for a joyful afternoon of family fun and enrollment support! This free event features face painting, games, balloon art, and on-site help with enrolling your child in one of Cleveland’s tuition-free public charter schools.\nSign up today: breakthroughschools.org/next-enrollment-event
DTSTAMP:20260419T220155Z
DTSTART;TZID=America/New_York:20250726T130000
DTEND;TZID=America/New_York:20250726T150000
LOCATION:1415 E 36th St\, Cleveland\, Ohio\, 44114
SUMMARY:Breakthrough Schools Summer Enrollment Carnival
UID:4925760-1753534800-1753542000
END:VEVENT
END:VCALENDAR
