BEGIN:VCALENDAR
METHOD:PUBLISH
PRODID:Data::ICal 0.13
VERSION:2.0
BEGIN:VEVENT
DESCRIPTION:[caption id=&quot;attachment_4893634&quot; align=&quot;alignnone&quot; width=&quot;1024&quot;] Source: Crowl Media / Crowl Media[/caption]\n\nCelebrate National Nurses Week WZAK and Ahmaad Crump at FORTIS COLLEGE on Tuesday, May 6th 10a-3pm as WZAK joins FORTIS COLLEGE to celebrate National Nurses Week!\nLocated at 2545 Bailey Road in Cuyahoga Falls. \nLearn how you to start your nursing education at FORTIS COLLEGE in Cuyahoga Falls. Call (330) 923-9959 now.
DTSTAMP:20260422T222642Z
DTSTART;TZID=America/New_York:20250506T100000
DTEND;TZID=America/New_York:20250506T150000
LOCATION:2545 Bailey Road\, Cuyahoga Falls.\, Ohio\, 44221
SUMMARY:Fortis College : National Nurses Week
UID:4893637-1746525600-1746543600
END:VEVENT
END:VCALENDAR
