BEGIN:VCALENDAR
METHOD:PUBLISH
PRODID:Data::ICal 0.13
VERSION:2.0
BEGIN:VEVENT
DESCRIPTION:Don&#039;t Miss us at Kia of Bedford all summer long for the KOB Summer BBQs . Check out the upcoming events below, and be on the look out for SPECIAL GUESTS!\n\n[caption id=&quot;attachment_3756935&quot; align=&quot;alignnone&quot; width=&quot;640&quot;] Source: N/A / creative services[/caption]\n\n[googlemaps https://www.google.com/maps/embed?pb=!1m14!1m8!1m3!1d11970.28906348308!2d-81.5496736!3d41.4050946!3m2!1i1024!2i768!4f13.1!3m3!1m2!1s0x0%3A0xbbaad1479691f772!2sKia+of+Bedford!5e0!3m2!1sen!2sus!4v1498241469866&amp;w=600&amp;h=450]
DTSTAMP:20260419T184725Z
DTSTART;TZID=America/New_York:20170624T000000
DTEND;TZID=America/New_York:20170902T000000
LOCATION:18180 Rockside Rd\, Bedford\, OH\, 44146
SUMMARY:ITS LIT at Kia of Bedford Summer BBQs
UID:3756459-1498262400-1504310400
END:VEVENT
END:VCALENDAR
