BEGIN:VCALENDAR
METHOD:PUBLISH
PRODID:Data::ICal 0.13
VERSION:2.0
BEGIN:VEVENT
DESCRIPTION:KIA of Bedford is our Official Summer bbq Partner!  Join Incognito &amp; Dj Knyce tomorrow from 11a-1p at KOB! \n\n\nKOB has 60 months interest-free financing OR No payments for up to 5 months Applicants restrictions apply everybody rides at KOB!\n\n\n\n&nbsp;\n\n[googlemaps https://www.google.com/maps/embed?pb=!1m14!1m8!1m3!1d11970.28906348308!2d-81.5496736!3d41.4050946!3m2!1i1024!2i768!4f13.1!3m3!1m2!1s0x0%3A0xbbaad1479691f772!2sKia+of+Bedford!5e0!3m2!1sen!2sus!4v1497045495383&amp;w=600&amp;h=450]
DTSTAMP:20260421T200642Z
DTSTART;TZID=America/New_York:20170610T110000
DTEND;TZID=America/New_York:20170610T130000
LOCATION:18180 Rockside Rd\, Bedford\, OH\, 44146
SUMMARY:Meet Us at Kia of Bedford This Saturday
UID:3754689-1497092400-1497099600
END:VEVENT
END:VCALENDAR
