BEGIN:VCALENDAR
METHOD:PUBLISH
PRODID:Data::ICal 0.13
VERSION:2.0
BEGIN:VEVENT
DESCRIPTION:[caption id=&quot;attachment_4418140&quot; align=&quot;aligncenter&quot; width=&quot;447&quot;] Source: Crowl Media / Crowl Media[/caption]\n\nJoin 93.1 WZAK For The Metrohealth Glick Center Community Day On Saturday October 8th From 11am To 3pm. Come Out And Celebrate The First Hospital In A Park.\nJoin Us On Saturday October 8th For Food Trucks, Entertainment, The Cleveland Crunch And More.\nBring Your Whole Family For An Afternoon Of Fun And Community Connections.\n&nbsp;\nMORE INFO HERE\n&nbsp;\n\n&nbsp;
DTSTAMP:20260421T211822Z
DTSTART;TZID=America/New_York:20221008T000000
DTEND;TZID=America/New_York:20221008T000000
LOCATION:
SUMMARY:METROHEALTH GLICK CENTER COMMUNITY DAY
UID:4418132-1665187200-1665187200
END:VEVENT
END:VCALENDAR
