BEGIN:VCALENDAR
METHOD:PUBLISH
PRODID:Data::ICal 0.13
VERSION:2.0
BEGIN:VEVENT
DESCRIPTION:[caption id=&quot;attachment_3760338&quot; align=&quot;alignnone&quot; width=&quot;1024&quot;] Source: n/a / creative services[/caption]
DTSTAMP:20260422T145831Z
DTSTART;TZID=America/New_York:20170815T000000
DTEND;TZID=America/New_York:20170820T220000
LOCATION:Cleveland\, OH\, 44115
SUMMARY:Motown the Musical LIVE at Playhouse Square
UID:3760334-1502755200-1503266400
END:VEVENT
END:VCALENDAR
