BEGIN:VCALENDAR
METHOD:PUBLISH
PRODID:Data::ICal 0.13
VERSION:2.0
BEGIN:VEVENT
DESCRIPTION:[caption id=&quot;attachment_5391364&quot; align=&quot;aligncenter&quot; width=&quot;350&quot;] Source: Bill Winston Ministries / Bill Winston Ministries[/caption]\n\n&nbsp;\nBusiness owners, entrepreneurs, next-gen leaders, you will be able to take your dreams, goals and business ideas to the next level through our high-impact events and workshops that will inspire and inform you.\nMake your mark on the world for the glory of God. We&#039;ll show you how. Plus, amazing giveaways, awesome music, and much more!\nCLICK HERE FOR MORE DETAILS
DTSTAMP:20260421T131519Z
DTSTART;TZID=America/New_York:20221104T000000
DTEND;TZID=America/New_York:20221105T000000
LOCATION:
SUMMARY:OPERATION TEN CITY: Greatness Unlocked
UID:4443585-1667520000-1667606400
END:VEVENT
END:VCALENDAR
