BEGIN:VCALENDAR
METHOD:PUBLISH
PRODID:Data::ICal 0.13
VERSION:2.0
BEGIN:VEVENT
DESCRIPTION:Come hang out with your favorite personalities and DJ’s of WZAK!\n[caption id=&quot;attachment_4277234&quot; align=&quot;aligncenter&quot; width=&quot;698&quot;] Source: RADIO ONE / creative services[/caption]
DTSTAMP:20260425T152526Z
DTSTART;TZID=America/New_York:20220317T110000
DTEND;TZID=America/New_York:20220317T150000
LOCATION:21300 Libby Rd\, Maple Heights
SUMMARY:The 7th Annual All Green Everything St Patrick’s St Clair Takeover
UID:4277233-1647514800-1647529200
END:VEVENT
END:VCALENDAR
