BEGIN:VCALENDAR
METHOD:PUBLISH
PRODID:Data::ICal 0.13
VERSION:2.0
BEGIN:VEVENT
DESCRIPTION:YOUR URBAN LEAGUE OF GREATER CLEVELAND IS CELEBRATING JUNETEENTH – JUNE 17 THE AT THE METROHEALTH CLEVELAND\nJUNETEENTH FREEDOM FEST ON MALL C FROM NOON-6:00P. WE’RE SHARING EXCITING EMPLOYMENT, ENTREPRENEUR, AND\nYOUTH DEVELOPMENT OPPORTUNITIES, PLUS PRIZE GIVEAWAYS AND MUCH MORE IN THE HEART OF DOWNTOWN CLEVELAND!\nSTOP BY AND SEE US AND WIN A PRIZE!
DTSTAMP:20260421T101943Z
DTSTART;TZID=America/New_York:20230617T000000
DTEND;TZID=America/New_York:20230617T000000
LOCATION:
SUMMARY:Urban League of Greater Cleveland: FREEDOM FEST
UID:4569994-1686960000-1686960000
END:VEVENT
END:VCALENDAR
